BEGIN:VCALENDAR
VERSION:2.0
PRODID:icalendar-ruby
CALSCALE:GREGORIAN
METHOD:PUBLISH
BEGIN:VEVENT
DTSTAMP:20260423T012157Z
UID:4f6520b5-88f4-4d6a-9efc-ee29cd77838c
DTSTART:20260506T180000
DTEND:20260506T190000
LOCATION:Small lecture hall\, Lindwurmstr. 2a // ground floor\, right side
  after the entrance\, room A0.11
SUMMARY:M.Lotze / The Science of Tumor Infiltrating Lymphocytes (TIL)
END:VEVENT
END:VCALENDAR
