BEGIN:VCALENDAR
VERSION:2.0
PRODID:icalendar-ruby
CALSCALE:GREGORIAN
METHOD:PUBLISH
BEGIN:VEVENT
DTSTAMP:20260421T170115Z
UID:e6c701ba-dfa1-4350-843b-dd7eebf9bc34
DTSTART:20260923T160000
DTEND:20260923T170000
LOCATION:virtual
SUMMARY:Disappearing Neighbors: Tumor–Epithelial Interactions and Transla
 tional Opportunities in Upper GI Cancer
END:VEVENT
END:VCALENDAR
