BEGIN:VCALENDAR
VERSION:2.0
PRODID:icalendar-ruby
CALSCALE:GREGORIAN
METHOD:PUBLISH
BEGIN:VEVENT
DTSTAMP:20260421T171401Z
UID:750d834b-d405-44d9-ab53-ff38d3893213
DTSTART:20260519T150000
DTEND:20260519T160000
LOCATION:virtual
SUMMARY:AI at Gustave Roussy: From Clinical AI to Agentic Systems in Prec
 ision Oncology
END:VEVENT
END:VCALENDAR
